BEGIN:VCALENDAR
VERSION:2.0
PRODID:-//Sophicity/Tribune/Homer, GA
BEGIN:VEVENT
DTSTAMP:20260422T102431Z
UID:180c7daf-7ed8-4f35-85de-a06b76d9a09c-3656
DTSTART:20190903T123000Z
DTEND:20190903T123000Z
CLASS:PUBLIC
SUMMARY:Work Session 
END:VEVENT
END:VCALENDAR
