BEGIN:VCALENDAR
VERSION:2.0
PRODID:-//Sophicity/Tribune/Homer, GA
BEGIN:VEVENT
DTSTAMP:20260422T020759Z
UID:180c7daf-7ed8-4f35-85de-a06b76d9a09c-3664
DTSTART:20200505T123000Z
DTEND:20200505T123000Z
CLASS:PUBLIC
SUMMARY:Work Session 
END:VEVENT
END:VCALENDAR
