BEGIN:VCALENDAR
VERSION:2.0
PRODID:-//Sophicity/Tribune/Homer, GA
BEGIN:VEVENT
DTSTAMP:20260422T081421Z
UID:180c7daf-7ed8-4f35-85de-a06b76d9a09c-3674
DTSTART:20191210T230000Z
DTEND:20191210T230000Z
CLASS:PUBLIC
SUMMARY:Council Meeting
END:VEVENT
END:VCALENDAR
