BEGIN:VCALENDAR
VERSION:2.0
PRODID:-//Sophicity/Tribune/Homer, GA
BEGIN:VEVENT
DTSTAMP:20260422T020715Z
UID:180c7daf-7ed8-4f35-85de-a06b76d9a09c-3678
DTSTART:20200414T220000Z
DTEND:20200414T220000Z
CLASS:PUBLIC
SUMMARY:Council Meeting
END:VEVENT
END:VCALENDAR
