BEGIN:VCALENDAR
VERSION:2.0
PRODID:-//Sophicity/Tribune/Homer, GA
BEGIN:VEVENT
DTSTAMP:20260422T033725Z
UID:180c7daf-7ed8-4f35-85de-a06b76d9a09c-3682
DTSTART:20200327T180000Z
DTEND:20200327T210000Z
LOCATION:City Hall, 943 Historic Homer Hwy. Homer, GA 30547
CLASS:PUBLIC
SUMMARY:Arbor Day
END:VEVENT
END:VCALENDAR
