BEGIN:VCALENDAR
VERSION:2.0
PRODID:-//Sophicity/Tribune/Homer, GA
BEGIN:VEVENT
DTSTAMP:20260422T103258Z
UID:180c7daf-7ed8-4f35-85de-a06b76d9a09c-3685
DTSTART:20190831T140000Z
DTEND:20190901T020000Z
CLASS:PUBLIC
SUMMARY:Holiday Festival and Parade
END:VEVENT
END:VCALENDAR
