BEGIN:VCALENDAR
VERSION:2.0
PRODID:-//Sophicity/Tribune/Homer, GA
BEGIN:VEVENT
DTSTAMP:20260422T065529Z
UID:180c7daf-7ed8-4f35-85de-a06b76d9a09c-3698
DTSTART:20210904T140000Z
DTEND:20210904T160000Z
CLASS:PUBLIC
SUMMARY:2021 Holiday Festival Sept. 4th
END:VEVENT
END:VCALENDAR
