BEGIN:VCALENDAR
VERSION:2.0
PRODID:-//Sophicity/Tribune/Homer, GA
BEGIN:VEVENT
DTSTAMP:20260421T204056Z
UID:180c7daf-7ed8-4f35-85de-a06b76d9a09c-3717
DTSTART:20230407T040000Z
DTEND:20230408T035900Z
CLASS:PUBLIC
SUMMARY:Good Friday
END:VEVENT
END:VCALENDAR
