BEGIN:VCALENDAR
VERSION:2.0
PRODID:-//Sophicity/Tribune/Homer, GA
BEGIN:VEVENT
DTSTAMP:20260421T222221Z
UID:180c7daf-7ed8-4f35-85de-a06b76d9a09c-3718
DTSTART:20230529T040000Z
DTEND:20230530T035900Z
CLASS:PUBLIC
SUMMARY:Memorial Day
END:VEVENT
END:VCALENDAR
