BEGIN:VCALENDAR
VERSION:2.0
PRODID:-//Sophicity/Tribune/Homer, GA
BEGIN:VEVENT
DTSTAMP:20260421T235904Z
UID:180c7daf-7ed8-4f35-85de-a06b76d9a09c-3719
DTSTART:20230704T040000Z
DTEND:20230705T035900Z
CLASS:PUBLIC
SUMMARY:Independence Day
END:VEVENT
END:VCALENDAR
