BEGIN:VCALENDAR
VERSION:2.0
PRODID:-//Sophicity/Tribune/Homer, GA
BEGIN:VEVENT
DTSTAMP:20260422T033325Z
UID:180c7daf-7ed8-4f35-85de-a06b76d9a09c-3721
DTSTART:20231107T130000Z
DTEND:20231107T220000Z
CLASS:PUBLIC
SUMMARY:Election Day
END:VEVENT
END:VCALENDAR
