BEGIN:VCALENDAR
VERSION:2.0
PRODID:-//Sophicity/Tribune/Homer, GA
BEGIN:VEVENT
DTSTAMP:20260422T032238Z
UID:180c7daf-7ed8-4f35-85de-a06b76d9a09c-3722
DTSTART:20231111T050000Z
DTEND:20231112T045900Z
CLASS:PUBLIC
SUMMARY:Veterans Day
END:VEVENT
END:VCALENDAR
