BEGIN:VCALENDAR
VERSION:2.0
PRODID:-//Sophicity/Tribune/Homer, GA
BEGIN:VEVENT
DTSTAMP:20260422T015210Z
UID:180c7daf-7ed8-4f35-85de-a06b76d9a09c-3725
DTSTART:20231222T050000Z
DTEND:20231223T045900Z
CLASS:PUBLIC
SUMMARY:Christmas Holidays
END:VEVENT
END:VCALENDAR
