BEGIN:VCALENDAR
VERSION:2.0
PRODID:-//Sophicity/Tribune/Homer, GA
BEGIN:VEVENT
DTSTAMP:20260421T203851Z
UID:180c7daf-7ed8-4f35-85de-a06b76d9a09c-3771
DTSTART:20230412T160000Z
DTEND:20230412T180000Z
CLASS:PUBLIC
SUMMARY:Rotary Club
END:VEVENT
END:VCALENDAR
