BEGIN:VCALENDAR
VERSION:2.0
PRODID:-//Sophicity/Tribune/Homer, GA
BEGIN:VEVENT
DTSTAMP:20260421T222220Z
UID:180c7daf-7ed8-4f35-85de-a06b76d9a09c-3775
DTSTART:20230510T160000Z
DTEND:20230510T180000Z
CLASS:PUBLIC
SUMMARY:Rotary Club
END:VEVENT
END:VCALENDAR
