BEGIN:VCALENDAR
VERSION:2.0
PRODID:-//Sophicity/Tribune/Homer, GA
BEGIN:VEVENT
DTSTAMP:20260422T000028Z
UID:180c7daf-7ed8-4f35-85de-a06b76d9a09c-3782
DTSTART:20230628T160000Z
DTEND:20230628T180000Z
CLASS:PUBLIC
SUMMARY:Rotary Club
END:VEVENT
END:VCALENDAR
