BEGIN:VCALENDAR
VERSION:2.0
PRODID:-//Sophicity/Tribune/Homer, GA
BEGIN:VEVENT
DTSTAMP:20260422T051439Z
UID:180c7daf-7ed8-4f35-85de-a06b76d9a09c-3799
DTSTART:20231025T160000Z
DTEND:20231025T180000Z
CLASS:PUBLIC
SUMMARY:Rotary Club
END:VEVENT
END:VCALENDAR
