BEGIN:VCALENDAR
VERSION:2.0
PRODID:-//Sophicity/Tribune/Homer, GA
BEGIN:VEVENT
DTSTAMP:20260422T015350Z
UID:180c7daf-7ed8-4f35-85de-a06b76d9a09c-3808
DTSTART:20231227T170000Z
DTEND:20231227T190000Z
CLASS:PUBLIC
SUMMARY:Rotary Club
END:VEVENT
END:VCALENDAR
