BEGIN:VCALENDAR
VERSION:2.0
PRODID:-//Sophicity/Tribune/Homer, GA
BEGIN:VEVENT
DTSTAMP:20260421T222234Z
UID:180c7daf-7ed8-4f35-85de-a06b76d9a09c-3811
DTSTART:20230606T123000Z
DTEND:20230606T140000Z
CLASS:PUBLIC
SUMMARY:Council Work Session Meeting
END:VEVENT
END:VCALENDAR
