BEGIN:VCALENDAR
VERSION:2.0
PRODID:-//Sophicity/Tribune/Homer, GA
BEGIN:VEVENT
DTSTAMP:20260422T015307Z
UID:180c7daf-7ed8-4f35-85de-a06b76d9a09c-3817
DTSTART:20231205T133000Z
DTEND:20231205T150000Z
CLASS:PUBLIC
SUMMARY:Council Work Session Meeting
END:VEVENT
END:VCALENDAR
