BEGIN:VCALENDAR
VERSION:2.0
PRODID:-//Sophicity/Tribune/Homer, GA
BEGIN:VEVENT
DTSTAMP:20260421T235904Z
UID:180c7daf-7ed8-4f35-85de-a06b76d9a09c-3830
DTSTART:20230613T220000Z
DTEND:20230614T000000Z
CLASS:PUBLIC
SUMMARY:Council Meeting
END:VEVENT
END:VCALENDAR
