BEGIN:VCALENDAR
VERSION:2.0
PRODID:-//Sophicity/Tribune/Homer, GA
BEGIN:VEVENT
DTSTAMP:20260422T020611Z
UID:180c7daf-7ed8-4f35-85de-a06b76d9a09c-3841
DTSTART:20230710T220000Z
DTEND:20230711T000000Z
CLASS:PUBLIC
SUMMARY:Homer Downtown Development Authority Meeting
END:VEVENT
END:VCALENDAR
