BEGIN:VCALENDAR
VERSION:2.0
PRODID:-//Sophicity/Tribune/Homer, GA
BEGIN:VEVENT
DTSTAMP:20260422T032115Z
UID:180c7daf-7ed8-4f35-85de-a06b76d9a09c-3845
DTSTART:20231113T230000Z
DTEND:20231114T010000Z
CLASS:PUBLIC
SUMMARY:Homer Downtown Development Authority Meeting
END:VEVENT
END:VCALENDAR
