BEGIN:VCALENDAR
VERSION:2.0
PRODID:-//Sophicity/Tribune/Homer, GA
BEGIN:VEVENT
DTSTAMP:20260422T015200Z
UID:180c7daf-7ed8-4f35-85de-a06b76d9a09c-3846
DTSTART:20231211T230000Z
DTEND:20231212T010000Z
CLASS:PUBLIC
SUMMARY:Homer Downtown Development Authority Meeting
END:VEVENT
END:VCALENDAR
