BEGIN:VCALENDAR
VERSION:2.0
PRODID:-//Sophicity/Tribune/Homer, GA
BEGIN:VEVENT
DTSTAMP:20260422T033025Z
UID:180c7daf-7ed8-4f35-85de-a06b76d9a09c-3847
DTSTART:20230901T160000Z
DTEND:20230903T210000Z
CLASS:PUBLIC
SUMMARY:Homer Holiday Festival 
END:VEVENT
END:VCALENDAR
