BEGIN:VCALENDAR
VERSION:2.0
PRODID:-//Sophicity/Tribune/Homer, GA
BEGIN:VEVENT
DTSTAMP:20260422T052407Z
UID:180c7daf-7ed8-4f35-85de-a06b76d9a09c-3867
DTSTART:20231021T180000Z
DTEND:20231021T220000Z
CLASS:PUBLIC
SUMMARY:Pumpkin Festival
END:VEVENT
END:VCALENDAR
