BEGIN:VCALENDAR
VERSION:2.0
PRODID:-//Sophicity/Tribune/Homer, GA
BEGIN:VEVENT
DTSTAMP:20260422T015124Z
UID:180c7daf-7ed8-4f35-85de-a06b76d9a09c-3872
DTSTART:20231209T140000Z
DTEND:20231209T220000Z
CLASS:PUBLIC
SUMMARY:Christmas Festival
END:VEVENT
END:VCALENDAR
