BEGIN:VCALENDAR
VERSION:2.0
PRODID:-//Sophicity/Tribune/Homer, GA
BEGIN:VEVENT
DTSTAMP:20260422T051453Z
UID:180c7daf-7ed8-4f35-85de-a06b76d9a09c-3873
DTSTART:20231021T223000Z
DTEND:20231021T223000Z
CLASS:PUBLIC
SUMMARY:Historic Homer Haunted Walking Tour 
END:VEVENT
END:VCALENDAR
