BEGIN:VCALENDAR
VERSION:2.0
PRODID:-//Sophicity/Tribune/Homer, GA
BEGIN:VEVENT
DTSTAMP:20260422T032410Z
UID:180c7daf-7ed8-4f35-85de-a06b76d9a09c-3877
DTSTART:20231110T130000Z
DTEND:20231110T220000Z
CLASS:PUBLIC
SUMMARY:Town Offices Closed for Veterans Day
END:VEVENT
END:VCALENDAR
