BEGIN:VCALENDAR
VERSION:2.0
PRODID:-//Sophicity/Tribune/Homer, GA
BEGIN:VEVENT
DTSTAMP:20260421T235738Z
UID:180c7daf-7ed8-4f35-85de-a06b76d9a09c-3883
DTSTART:20240727T140000Z
DTEND:20240727T180000Z
CLASS:PUBLIC
SUMMARY:Sunday School Celebration
END:VEVENT
END:VCALENDAR
