BEGIN:VCALENDAR
VERSION:2.0
PRODID:-//Sophicity/Tribune/Homer, GA
BEGIN:VEVENT
DTSTAMP:20260422T032314Z
UID:180c7daf-7ed8-4f35-85de-a06b76d9a09c-3887
DTSTART:20241019T170000Z
DTEND:20241019T220000Z
CLASS:PUBLIC
SUMMARY:Pumpkin Festival
END:VEVENT
END:VCALENDAR
