BEGIN:VCALENDAR
VERSION:2.0
PRODID:-//Sophicity/Tribune/Homer, GA
BEGIN:VEVENT
DTSTAMP:20260421T222220Z
UID:180c7daf-7ed8-4f35-85de-a06b76d9a09c-3890
DTSTART:20240704T120000Z
DTEND:20240704T210000Z
CLASS:PUBLIC
SUMMARY:Office Closed in Observance of Independence Day
END:VEVENT
END:VCALENDAR
