BEGIN:VCALENDAR
VERSION:2.0
PRODID:-//Sophicity/Tribune/Homer, GA
BEGIN:VEVENT
DTSTAMP:20260422T015124Z
UID:180c7daf-7ed8-4f35-85de-a06b76d9a09c-3891
DTSTART:20240902T120000Z
DTEND:20240902T210000Z
CLASS:PUBLIC
SUMMARY:Office Closed in Observance of Labor Day
END:VEVENT
END:VCALENDAR
