BEGIN:VCALENDAR
VERSION:2.0
PRODID:-//Sophicity/Tribune/Homer, GA
BEGIN:VEVENT
DTSTAMP:20260422T015307Z
UID:180c7daf-7ed8-4f35-85de-a06b76d9a09c-3893
DTSTART:20241128T130000Z
DTEND:20241129T220000Z
CLASS:PUBLIC
SUMMARY:Office Closed in Observance of Thanksgiving Holidays
END:VEVENT
END:VCALENDAR
