BEGIN:VCALENDAR
VERSION:2.0
PRODID:-//Sophicity/Tribune/Homer, GA
BEGIN:VEVENT
DTSTAMP:20260422T032238Z
UID:180c7daf-7ed8-4f35-85de-a06b76d9a09c-3901
DTSTART:20241026T150000Z
DTEND:20241026T180000Z
CLASS:PUBLIC
SUMMARY:Fall Festival and Health Fair
END:VEVENT
END:VCALENDAR
