BEGIN:VCALENDAR
VERSION:2.0
PRODID:-//Sophicity/Tribune/Homer, GA
BEGIN:VEVENT
DTSTAMP:20260421T235912Z
UID:180c7daf-7ed8-4f35-85de-a06b76d9a09c-3913
DTSTART:20251104T120000Z
DTEND:20251105T000000Z
CLASS:PUBLIC
SUMMARY:General Election
END:VEVENT
END:VCALENDAR
