BEGIN:VCALENDAR
VERSION:2.0
PRODID:-//Sophicity/Tribune/Homer, GA
BEGIN:VEVENT
DTSTAMP:20260422T000016Z
UID:180c7daf-7ed8-4f35-85de-a06b76d9a09c-3915
DTSTART:20250818T123000Z
DTEND:20250818T203000Z
LOCATION:Town Hall 943 Historic Homer Highway
CLASS:PUBLIC
SUMMARY:Qualifying for Offices: General Election
END:VEVENT
END:VCALENDAR
