BEGIN:VCALENDAR
VERSION:2.0
PRODID:-//Sophicity/Tribune/Homer, GA
BEGIN:VEVENT
DTSTAMP:20260421T235903Z
UID:180c7daf-7ed8-4f35-85de-a06b76d9a09c-3916
DTSTART:20250819T123000Z
DTEND:20250819T203000Z
LOCATION:Town Hall 943 Historic Homer Highway
CLASS:PUBLIC
SUMMARY:Qualifying for Offices: General Election
END:VEVENT
END:VCALENDAR
