BEGIN:VCALENDAR
VERSION:2.0
PRODID:-//Sophicity/Tribune/Homer, GA
BEGIN:VEVENT
DTSTAMP:20260421T235912Z
UID:180c7daf-7ed8-4f35-85de-a06b76d9a09c-3919
DTSTART:20250830T120000Z
DTEND:20250831T020000Z
CLASS:PUBLIC
SUMMARY:Labor Day Festival
END:VEVENT
END:VCALENDAR
