BEGIN:VCALENDAR
VERSION:2.0
PRODID:-//Sophicity/Tribune/Homer, GA
BEGIN:VEVENT
DTSTAMP:20260422T000039Z
UID:180c7daf-7ed8-4f35-85de-a06b76d9a09c-3920
DTSTART:20250831T150000Z
DTEND:20250831T200000Z
CLASS:PUBLIC
SUMMARY:Labor Day Festival
END:VEVENT
END:VCALENDAR
