BEGIN:VCALENDAR
VERSION:2.0
PRODID:-//Sophicity/Tribune/Homer, GA
BEGIN:VEVENT
DTSTAMP:20260421T190202Z
UID:180c7daf-7ed8-4f35-85de-a06b76d9a09c-3926
DTSTART:20260227T200000Z
DTEND:20260227T210000Z
LOCATION:Town Hall
CLASS:PUBLIC
SUMMARY:Arbor Day Event
END:VEVENT
END:VCALENDAR
