BEGIN:VCALENDAR
VERSION:2.0
PRODID:-//Sophicity/Tribune/Homer, GA
BEGIN:VEVENT
DTSTAMP:20260421T190957Z
UID:180c7daf-7ed8-4f35-85de-a06b76d9a09c-3930
DTSTART:20260703T120000Z
DTEND:20260703T210000Z
CLASS:PUBLIC
SUMMARY:Closed Independence Day
END:VEVENT
END:VCALENDAR
