BEGIN:VCALENDAR
VERSION:2.0
PRODID:-//Sophicity/Tribune/Homer, GA
BEGIN:VEVENT
DTSTAMP:20260422T002356Z
UID:180c7daf-7ed8-4f35-85de-a06b76d9a09c-3932
DTSTART:20260907T120000Z
DTEND:20260907T210000Z
CLASS:PUBLIC
SUMMARY:Closed Labor Day
END:VEVENT
END:VCALENDAR
