BEGIN:VCALENDAR
VERSION:2.0
PRODID:-//Sophicity/Tribune/Homer, GA
BEGIN:VEVENT
DTSTAMP:20260421T224446Z
UID:180c7daf-7ed8-4f35-85de-a06b76d9a09c-3933
DTSTART:20260904T040000Z
DTEND:20260906T160000Z
LOCATION:Downtown Homer
CLASS:PUBLIC
SUMMARY:Labor Day Festival
END:VEVENT
END:VCALENDAR
