BEGIN:VCALENDAR
VERSION:2.0
PRODID:-//Sophicity/Tribune/Homer, GA
BEGIN:VEVENT
DTSTAMP:20260422T002355Z
UID:180c7daf-7ed8-4f35-85de-a06b76d9a09c-3936
DTSTART:20261002T040000Z
DTEND:20261003T160000Z
CLASS:PUBLIC
SUMMARY:Maysville Autumn Leaf Festival
END:VEVENT
END:VCALENDAR
