BEGIN:VCALENDAR
VERSION:2.0
PRODID:-//Sophicity/Tribune/Homer, GA
BEGIN:VEVENT
DTSTAMP:20260422T015210Z
UID:180c7daf-7ed8-4f35-85de-a06b76d9a09c-3939
DTSTART:20261126T130000Z
DTEND:20261127T220000Z
CLASS:PUBLIC
SUMMARY:Closed Thanksgiving
END:VEVENT
END:VCALENDAR
