BEGIN:VCALENDAR
VERSION:2.0
PRODID:-//Sophicity/Tribune/Homer, GA
BEGIN:VEVENT
DTSTAMP:20260421T235851Z
UID:180c7daf-7ed8-4f35-85de-a06b76d9a09c-3940
DTSTART:20261224T130000Z
DTEND:20261224T220000Z
CLASS:PUBLIC
SUMMARY:Closed Christmas Eve
END:VEVENT
END:VCALENDAR
