BEGIN:VCALENDAR
VERSION:2.0
PRODID:-//Sophicity/Tribune/Homer, GA
BEGIN:VEVENT
DTSTAMP:20260421T235851Z
UID:180c7daf-7ed8-4f35-85de-a06b76d9a09c-3941
DTSTART:20261225T130000Z
DTEND:20261225T220000Z
CLASS:PUBLIC
SUMMARY:Closed Christmas Day
END:VEVENT
END:VCALENDAR
