BEGIN:VCALENDAR
VERSION:2.0
PRODID:-//Sophicity/Tribune/Homer, GA
BEGIN:VEVENT
DTSTAMP:20260421T222958Z
UID:180c7daf-7ed8-4f35-85de-a06b76d9a09c-3942
DTSTART:20261228T130000Z
DTEND:20261228T220000Z
CLASS:PUBLIC
SUMMARY:Closed Day after Christmas
END:VEVENT
END:VCALENDAR
