BEGIN:VCALENDAR
VERSION:2.0
PRODID:-//Sophicity/Tribune/Homer, GA
BEGIN:VEVENT
DTSTAMP:20260421T190957Z
UID:180c7daf-7ed8-4f35-85de-a06b76d9a09c-4267
DTSTART:20260707T123000Z
DTEND:20260707T133000Z
CLASS:PUBLIC
SUMMARY:Mayor and Council Work Session
END:VEVENT
END:VCALENDAR
